BEGIN:VCALENDAR
VERSION:2.0
PRODID:-//Fritz Stephan GmbH - ECPv6.15.20//NONSGML v1.0//EN
CALSCALE:GREGORIAN
METHOD:PUBLISH
X-WR-CALNAME:Fritz Stephan GmbH
X-ORIGINAL-URL:https://www.stephan-gmbh.com/en/
X-WR-CALDESC:Events for Fritz Stephan GmbH
REFRESH-INTERVAL;VALUE=DURATION:PT1H
X-Robots-Tag:noindex
X-PUBLISHED-TTL:PT1H
BEGIN:VTIMEZONE
TZID:UTC
BEGIN:STANDARD
TZOFFSETFROM:+0000
TZOFFSETTO:+0000
TZNAME:UTC
DTSTART:20250101T000000
END:STANDARD
END:VTIMEZONE
BEGIN:VEVENT
DTSTART;VALUE=DATE:20260422
DTEND;VALUE=DATE:20260424
DTSTAMP:20260421T110900
CREATED:20240515T131931Z
LAST-MODIFIED:20240515T131931Z
UID:9551-1776816000-1776988799@www.stephan-gmbh.com
SUMMARY:EUROSATORY - Protect your future
DESCRIPTION:Please visit us at our stand!\nYou can find us in Hall 5b\, Stand No.: C241.\nWe look forward to pleasant and valuable discussions about the latest developments.
URL:https://www.stephan-gmbh.com/en/event/eurosatory-protect-your-future/
LOCATION:Alando Palais & Ballhaus\, Pottgraben 60\, Osnabrück\, 49074
ATTACH;FMTTYPE=image/png:https://www.stephan-gmbh.com/wp-content/uploads/2024/05/Eurosatory_Webseite.png
END:VEVENT
END:VCALENDAR